BEGIN:VCALENDAR
VERSION:2.0
PRODID:-//Bishop Stuart University - ECPv6.15.20//NONSGML v1.0//EN
CALSCALE:GREGORIAN
METHOD:PUBLISH
X-ORIGINAL-URL:https://www.bsu.ac.ug
X-WR-CALDESC:Events for Bishop Stuart University
REFRESH-INTERVAL;VALUE=DURATION:PT1H
X-Robots-Tag:noindex
X-PUBLISHED-TTL:PT1H
BEGIN:VTIMEZONE
TZID:Africa/Kampala
BEGIN:STANDARD
TZOFFSETFROM:+0300
TZOFFSETTO:+0300
TZNAME:EAT
DTSTART:20250101T000000
END:STANDARD
END:VTIMEZONE
BEGIN:VEVENT
DTSTART;TZID=Africa/Kampala:20260425T160000
DTEND;TZID=Africa/Kampala:20260425T200000
DTSTAMP:20260423T172205
CREATED:20260423T081253Z
LAST-MODIFIED:20260423T081253Z
UID:10002870-1777132800-1777147200@www.bsu.ac.ug
SUMMARY:PhD Students Dinner
DESCRIPTION:
URL:https://www.bsu.ac.ug/event/phd-students-dinner/
LOCATION:Las Vegas Hotel\, Mbarara\, Mbarara\, Mbarara\, Uganda
CATEGORIES:Workshops
ORGANIZER;CN="Bishop Stuart University":MAILTO:info.bsu.ac.ug
END:VEVENT
END:VCALENDAR