BEGIN:VCALENDAR
VERSION:2.0
PRODID:-//Bishop Stuart University - ECPv6.15.20//NONSGML v1.0//EN
CALSCALE:GREGORIAN
METHOD:PUBLISH
X-WR-CALNAME:Bishop Stuart University
X-ORIGINAL-URL:https://www.bsu.ac.ug
X-WR-CALDESC:Events for Bishop Stuart University
REFRESH-INTERVAL;VALUE=DURATION:PT1H
X-Robots-Tag:noindex
X-PUBLISHED-TTL:PT1H
BEGIN:VTIMEZONE
TZID:Africa/Kampala
BEGIN:STANDARD
TZOFFSETFROM:+0300
TZOFFSETTO:+0300
TZNAME:EAT
DTSTART:20250101T000000
END:STANDARD
END:VTIMEZONE
BEGIN:VEVENT
DTSTART;VALUE=DATE:20260222
DTEND;VALUE=DATE:20260302
DTSTAMP:20260422T143928
CREATED:20260109T152846Z
LAST-MODIFIED:20260213T070525Z
UID:10002860-1771718400-1772409599@www.bsu.ac.ug
SUMMARY:10th Annual BSU Mission Week
DESCRIPTION:
URL:https://www.bsu.ac.ug/event/bsu-week/
LOCATION:Bishop Stuart University\, Kakoba\, Mbarara\, Western\, Uganda
CATEGORIES:General
ORGANIZER;CN="Bishop Stuart University":MAILTO:info.bsu.ac.ug
GEO:-0.6068785;30.7004932
X-APPLE-STRUCTURED-LOCATION;VALUE=URI;X-ADDRESS=Bishop Stuart University Kakoba Mbarara Western Uganda;X-APPLE-RADIUS=500;X-TITLE=Kakoba:geo:30.7004932,-0.6068785
END:VEVENT
END:VCALENDAR