BEGIN:VCALENDAR
VERSION:2.0
PRODID:-//Bishop Stuart University - ECPv6.15.20//NONSGML v1.0//EN
CALSCALE:GREGORIAN
METHOD:PUBLISH
X-ORIGINAL-URL:https://www.bsu.ac.ug
X-WR-CALDESC:Events for Bishop Stuart University
REFRESH-INTERVAL;VALUE=DURATION:PT1H
X-Robots-Tag:noindex
X-PUBLISHED-TTL:PT1H
BEGIN:VTIMEZONE
TZID:Africa/Kampala
BEGIN:STANDARD
TZOFFSETFROM:+0300
TZOFFSETTO:+0300
TZNAME:EAT
DTSTART:20240101T000000
END:STANDARD
END:VTIMEZONE
BEGIN:VEVENT
DTSTART;VALUE=DATE:20251024
DTEND;VALUE=DATE:20251025
DTSTAMP:20260423T180324
CREATED:20250917T141411Z
LAST-MODIFIED:20251024T052356Z
UID:10002855-1761264000-1761350399@www.bsu.ac.ug
SUMMARY:21st Graduation Ceremony
DESCRIPTION:Bishop Stuart University is set to hold its 21st Graduation Ceremony at Riverside Sports Grounds on 24th October 2025. The Guest of Honor will be HE. Yoweri K. Museveni\, the President of the Republic of Uganda. \nTheme: “Transforming Higher Education through Science\, Technology and AI-driven Innovations for Community Impact.” \n\n\n\n\n\n\n\n\n\n\n\n\n\n\n\n\n\nDownloads\n\n\n\nPublic Lecture\n\n\n\nVideos\n\n\n\n\n\n\n	Downloads\n\n\n\nAcademic Graduation Gown Colours\nGraduation Booklet\n1st Draft Graduation List\n2nd Draft Graduation List\nFinal Graduation List\n\n\n	Speeches\n\n\n\nChancellor’s Speech\nVice-Chancellor’s Speech\n\n\n\n\nBishop Stuart University (BSU) will host a Public Lecture as part of the activities marking the 21st Graduation Ceremony. \nDate: Thursday\, 23rd October 2025\nTime: 2:00 PM\nVenue: University Library\, Main Campus\, Kakoba\, Mbarara City \nTheme: “Transforming Higher Education through Science\, Technology and AI-Driven Innovations for community impact”. \nDetails: https://www.bsu.ac.ug/event/public-lecture-21st-graduation/ \n\n\n\n21st Graduation Ceremony \n\n\nPublic Lecture Live Stream \n\n\n\n\n\n\n\n\n\n\n\n\n\n\n\n\n\n\n\nCongratulations!\nThe day has finally come you are graduating. It’s been a long time coming\, but you deserve it so much.
URL:https://www.bsu.ac.ug/event/21st-graduation-ceremony/
LOCATION:Western
CATEGORIES:21st Graduation Ceremony,Featured
ATTACH;FMTTYPE=image/jpeg:https://www.bsu.ac.ug/wp-content/uploads/2024/06/New-Library-_Main_Campus-e1719231813963.jpg
END:VEVENT
BEGIN:VEVENT
DTSTART;VALUE=DATE:20251115
DTEND;VALUE=DATE:20251116
DTSTAMP:20260423T180325
CREATED:20251103T065556Z
LAST-MODIFIED:20251104T075258Z
UID:10002858-1763164800-1763251199@www.bsu.ac.ug
SUMMARY:BSU Run 2025
DESCRIPTION:
URL:https://www.bsu.ac.ug/event/bsu-run-2025/
LOCATION:Bishop Stuart University\, Kakoba\, Mbarara\, Western\, Uganda
ORGANIZER;CN="Bishop Stuart University":MAILTO:info.bsu.ac.ug
GEO:-0.6068785;30.7004932
X-APPLE-STRUCTURED-LOCATION;VALUE=URI;X-ADDRESS=Bishop Stuart University Kakoba Mbarara Western Uganda;X-APPLE-RADIUS=500;X-TITLE=Kakoba:geo:30.7004932,-0.6068785
END:VEVENT
BEGIN:VEVENT
DTSTART;VALUE=DATE:20251208
DTEND;VALUE=DATE:20251212
DTSTAMP:20260423T180325
CREATED:20251008T131632Z
LAST-MODIFIED:20251008T131632Z
UID:10002856-1765152000-1765497599@www.bsu.ac.ug
SUMMARY:9th Provincial Annual Youth & Students Convention (PAYSCO)
DESCRIPTION:
URL:https://www.bsu.ac.ug/event/9th-provincial-annual-youth-students-convention-paysco/
LOCATION:Bishop Stuart University\, Kakoba\, Mbarara\, Western\, Uganda
CATEGORIES:General
ORGANIZER;CN="Bishop Stuart University":MAILTO:info.bsu.ac.ug
GEO:-0.6068785;30.7004932
X-APPLE-STRUCTURED-LOCATION;VALUE=URI;X-ADDRESS=Bishop Stuart University Kakoba Mbarara Western Uganda;X-APPLE-RADIUS=500;X-TITLE=Kakoba:geo:30.7004932,-0.6068785
END:VEVENT
BEGIN:VEVENT
DTSTART;VALUE=DATE:20260107
DTEND;VALUE=DATE:20260108
DTSTAMP:20260423T180325
CREATED:20260109T152721Z
LAST-MODIFIED:20260109T152721Z
UID:10002859-1767744000-1767830399@www.bsu.ac.ug
SUMMARY:Semester I - January Intake Reporting (2026/27)
DESCRIPTION:
URL:https://www.bsu.ac.ug/event/semester-i-january-intake-reporting-2026-27/
LOCATION:Bishop Stuart University\, Kakoba\, Mbarara\, Western\, Uganda
CATEGORIES:General
ORGANIZER;CN="Bishop Stuart University":MAILTO:info.bsu.ac.ug
GEO:-0.6068785;30.7004932
X-APPLE-STRUCTURED-LOCATION;VALUE=URI;X-ADDRESS=Bishop Stuart University Kakoba Mbarara Western Uganda;X-APPLE-RADIUS=500;X-TITLE=Kakoba:geo:30.7004932,-0.6068785
END:VEVENT
BEGIN:VEVENT
DTSTART;TZID=Africa/Kampala:20260203T090000
DTEND;TZID=Africa/Kampala:20260203T170000
DTSTAMP:20260423T180325
CREATED:20260124T103243Z
LAST-MODIFIED:20260124T103243Z
UID:10002864-1770109200-1770138000@www.bsu.ac.ug
SUMMARY:Bachelor of Laws Pre-entry Exam - Jan. Intake 2026/27
DESCRIPTION:
URL:https://www.bsu.ac.ug/event/bachelor-of-laws-pre-entry-exam-jan-intake-2026-27/
LOCATION:Bishop Stuart University\, Kakoba\, Mbarara\, Western\, Uganda
CATEGORIES:General
ORGANIZER;CN="Bishop Stuart University":MAILTO:info.bsu.ac.ug
GEO:-0.6068785;30.7004932
X-APPLE-STRUCTURED-LOCATION;VALUE=URI;X-ADDRESS=Bishop Stuart University Kakoba Mbarara Western Uganda;X-APPLE-RADIUS=500;X-TITLE=Kakoba:geo:30.7004932,-0.6068785
END:VEVENT
BEGIN:VEVENT
DTSTART;VALUE=DATE:20260222
DTEND;VALUE=DATE:20260302
DTSTAMP:20260423T180325
CREATED:20260109T152846Z
LAST-MODIFIED:20260213T070525Z
UID:10002860-1771718400-1772409599@www.bsu.ac.ug
SUMMARY:10th Annual BSU Mission Week
DESCRIPTION:
URL:https://www.bsu.ac.ug/event/bsu-week/
LOCATION:Bishop Stuart University\, Kakoba\, Mbarara\, Western\, Uganda
CATEGORIES:General
ORGANIZER;CN="Bishop Stuart University":MAILTO:info.bsu.ac.ug
GEO:-0.6068785;30.7004932
X-APPLE-STRUCTURED-LOCATION;VALUE=URI;X-ADDRESS=Bishop Stuart University Kakoba Mbarara Western Uganda;X-APPLE-RADIUS=500;X-TITLE=Kakoba:geo:30.7004932,-0.6068785
END:VEVENT
BEGIN:VEVENT
DTSTART;VALUE=DATE:20260224
DTEND;VALUE=DATE:20260225
DTSTAMP:20260423T180325
CREATED:20260219T163125Z
LAST-MODIFIED:20260221T120119Z
UID:10002867-1771891200-1771977599@www.bsu.ac.ug
SUMMARY:Research Dissemination - 10th BSU Week
DESCRIPTION:
URL:https://www.bsu.ac.ug/event/research-dissemination-10th-bsu-week/
LOCATION:Bishop Stuart University\, Kakoba\, Mbarara\, Western\, Uganda
CATEGORIES:10th BSU Week,Featured
ATTACH;FMTTYPE=image/jpeg:https://www.bsu.ac.ug/wp-content/uploads/2022/07/Reseach-Rissemination-and-paper-presentation-by-the-the-staff-of-Bishop-Stuart-on-February-20th-University___-e1771519553145.jpg
ORGANIZER;CN="Bishop Stuart University":MAILTO:info.bsu.ac.ug
GEO:-0.6068785;30.7004932
X-APPLE-STRUCTURED-LOCATION;VALUE=URI;X-ADDRESS=Bishop Stuart University Kakoba Mbarara Western Uganda;X-APPLE-RADIUS=500;X-TITLE=Kakoba:geo:30.7004932,-0.6068785
END:VEVENT
BEGIN:VEVENT
DTSTART;VALUE=DATE:20260402
DTEND;VALUE=DATE:20260403
DTSTAMP:20260423T180325
CREATED:20260109T153103Z
LAST-MODIFIED:20260109T153103Z
UID:10002861-1775088000-1775174399@www.bsu.ac.ug
SUMMARY:Sem I - April Intake Reporting (2026/27)
DESCRIPTION:
URL:https://www.bsu.ac.ug/event/sem-i-april-intake-reporting-2026-27/
LOCATION:Bishop Stuart University\, Kakoba\, Mbarara\, Western\, Uganda
ORGANIZER;CN="Bishop Stuart University":MAILTO:info.bsu.ac.ug
GEO:-0.6068785;30.7004932
X-APPLE-STRUCTURED-LOCATION;VALUE=URI;X-ADDRESS=Bishop Stuart University Kakoba Mbarara Western Uganda;X-APPLE-RADIUS=500;X-TITLE=Kakoba:geo:30.7004932,-0.6068785
END:VEVENT
BEGIN:VEVENT
DTSTART;TZID=Africa/Kampala:20260416T110000
DTEND;TZID=Africa/Kampala:20260416T140000
DTSTAMP:20260423T180325
CREATED:20260416T084434Z
LAST-MODIFIED:20260416T084434Z
UID:10002869-1776337200-1776348000@www.bsu.ac.ug
SUMMARY:BSU Law Society Presidential Debate & Open Air Campaigns
DESCRIPTION:
URL:https://www.bsu.ac.ug/event/bsu-law-society-presidential-debate-open-air-campaigns/
LOCATION:Bishop Stuart University\, Kakoba\, Mbarara\, Western\, Uganda
CATEGORIES:General
ORGANIZER;CN="Bishop Stuart University":MAILTO:info.bsu.ac.ug
GEO:-0.6068785;30.7004932
X-APPLE-STRUCTURED-LOCATION;VALUE=URI;X-ADDRESS=Bishop Stuart University Kakoba Mbarara Western Uganda;X-APPLE-RADIUS=500;X-TITLE=Kakoba:geo:30.7004932,-0.6068785
END:VEVENT
BEGIN:VEVENT
DTSTART;TZID=Africa/Kampala:20260424T090000
DTEND;TZID=Africa/Kampala:20260424T130000
DTSTAMP:20260423T180325
CREATED:20260409T082920Z
LAST-MODIFIED:20260409T201122Z
UID:10002868-1777021200-1777035600@www.bsu.ac.ug
SUMMARY:PhD Defence - Elias Nuwagaba
DESCRIPTION:The Director\, Directorate of Graduate Studies\, Research and Innovations\, invites you to be part of the upcoming Ph.D. defence for Mr. Elias Nuwagaba. \nCandidate: Elias Nuwagaba. \nThesis Title: Urban Farming for Sustainable Livelihoods in Mbarara City\, Western Uganda. \nDate: Friday\, 24th April 2026. Time: 9:00 am (EAT). \nVenue: University Conference Hall – Bishop Stuart University. \nSupervisors: \n\nAssoc. Prof. Gershom Atukunda (PhD): Associate Professor\, Department of Public Administration and Governance\, Bishop Stuart University.\n Murindwa Rutanga (PhD): Department of Political Sciences & Public Administration\, Makerere University\n\nExaminers: \n\nAssoc. Prof. Alex Nduhura (PhD): Uganda Management Institute\n\nInternal Examiners: \n\nDr. Anthony Mpairwe (PhD): Department of Social Work & Social Administration\, Bishop Stuart University\nDr. Benon Muhumuza (PhD): Senior Lecturer\, Makerere University Business School\n\nAttend Online: https://bsu-ac-ug.zoom.us/j/97615642626?pwd=YMCyyOTpNwYP6SB97msXa8QoTeleOF.1 \nDefence Chairperson: Dr. Johnson Atwiine (PhD): Coordinator – Graduate Studies\, DGSRI- Bishop Stuart University. \nContacts: \nDr. Johnson Atwiine\, Coordinator – Graduate Studies\, Research\, and Innovations \nEmail: jatwiine@beg.bsu.ac.ug  or call: +256 782 873086 \nDr. Robert Mugabe (PhD): Faculty Research Coordinator\, Faculty of Business\, Economics and Governance \nCall: +256 782 365773 \n\n\n\n    \n        \n            \n            \n                PhD Defence Abstract – Elias Nuwagaba\n                 1 file(s)  96.11 KB\n            \n            \n                Download
URL:https://www.bsu.ac.ug/event/phd-defence-elias-nuwagaba/
LOCATION:Western
CATEGORIES:Featured,PhD Defence
ATTACH;FMTTYPE=image/jpeg:https://www.bsu.ac.ug/wp-content/uploads/2026/04/PhD-Defence-Mr.Elias-Nuwagaba-1.jpg
END:VEVENT
BEGIN:VEVENT
DTSTART;TZID=Africa/Kampala:20260425T160000
DTEND;TZID=Africa/Kampala:20260425T200000
DTSTAMP:20260423T180325
CREATED:20260423T081253Z
LAST-MODIFIED:20260423T081253Z
UID:10002870-1777132800-1777147200@www.bsu.ac.ug
SUMMARY:PhD Students Dinner
DESCRIPTION:
URL:https://www.bsu.ac.ug/event/phd-students-dinner/
LOCATION:Las Vegas Hotel\, Mbarara\, Mbarara\, Mbarara\, Uganda
CATEGORIES:Workshops
ORGANIZER;CN="Bishop Stuart University":MAILTO:info.bsu.ac.ug
END:VEVENT
BEGIN:VEVENT
DTSTART;VALUE=DATE:20260604
DTEND;VALUE=DATE:20260621
DTSTAMP:20260423T180325
CREATED:20260130T144137Z
LAST-MODIFIED:20260130T144207Z
UID:10002865-1780531200-1781999999@www.bsu.ac.ug
SUMMARY:End of Semester Examinations - Jan. Intake 2026/27
DESCRIPTION:
URL:https://www.bsu.ac.ug/event/university-eos-examinations-january-intake-2026-27/
LOCATION:Bishop Stuart University\, Kakoba\, Mbarara\, Western\, Uganda
CATEGORIES:General
ORGANIZER;CN="Bishop Stuart University":MAILTO:info.bsu.ac.ug
GEO:-0.6068785;30.7004932
X-APPLE-STRUCTURED-LOCATION;VALUE=URI;X-ADDRESS=Bishop Stuart University Kakoba Mbarara Western Uganda;X-APPLE-RADIUS=500;X-TITLE=Kakoba:geo:30.7004932,-0.6068785
END:VEVENT
BEGIN:VEVENT
DTSTART;VALUE=DATE:20260808
DTEND;VALUE=DATE:20260809
DTSTAMP:20260423T180325
CREATED:20260109T153220Z
LAST-MODIFIED:20260109T153220Z
UID:10002862-1786147200-1786233599@www.bsu.ac.ug
SUMMARY:Sem I - August Intake Reporting (2026/27)
DESCRIPTION:
URL:https://www.bsu.ac.ug/event/sem-i-august-intake-reporting-2026-27/
LOCATION:Bishop Stuart University\, Kakoba\, Mbarara\, Western\, Uganda
CATEGORIES:General
ORGANIZER;CN="Bishop Stuart University":MAILTO:info.bsu.ac.ug
GEO:-0.6068785;30.7004932
X-APPLE-STRUCTURED-LOCATION;VALUE=URI;X-ADDRESS=Bishop Stuart University Kakoba Mbarara Western Uganda;X-APPLE-RADIUS=500;X-TITLE=Kakoba:geo:30.7004932,-0.6068785
END:VEVENT
BEGIN:VEVENT
DTSTART;VALUE=DATE:20260819
DTEND;VALUE=DATE:20260904
DTSTAMP:20260423T180325
CREATED:20260130T144302Z
LAST-MODIFIED:20260130T144302Z
UID:10002866-1787097600-1788479999@www.bsu.ac.ug
SUMMARY:End of Semester Examinations - April Intake 2026/27
DESCRIPTION:
URL:https://www.bsu.ac.ug/event/end-of-semester-examinations-april-intake-2026-27/
LOCATION:Bishop Stuart University\, Kakoba\, Mbarara\, Western\, Uganda
CATEGORIES:General
ORGANIZER;CN="Bishop Stuart University":MAILTO:info.bsu.ac.ug
GEO:-0.6068785;30.7004932
X-APPLE-STRUCTURED-LOCATION;VALUE=URI;X-ADDRESS=Bishop Stuart University Kakoba Mbarara Western Uganda;X-APPLE-RADIUS=500;X-TITLE=Kakoba:geo:30.7004932,-0.6068785
END:VEVENT
BEGIN:VEVENT
DTSTART;TZID=Africa/Kampala:20261023T090000
DTEND;TZID=Africa/Kampala:20261023T130000
DTSTAMP:20260423T180325
CREATED:20260109T153337Z
LAST-MODIFIED:20260109T153337Z
UID:10002863-1792746000-1792760400@www.bsu.ac.ug
SUMMARY:22nd Graduation  Ceremony
DESCRIPTION:
URL:https://www.bsu.ac.ug/event/22nd-graduation-ceremony/
LOCATION:Bishop Stuart University\, Kakoba\, Mbarara\, Western\, Uganda
ORGANIZER;CN="Bishop Stuart University":MAILTO:info.bsu.ac.ug
GEO:-0.6068785;30.7004932
X-APPLE-STRUCTURED-LOCATION;VALUE=URI;X-ADDRESS=Bishop Stuart University Kakoba Mbarara Western Uganda;X-APPLE-RADIUS=500;X-TITLE=Kakoba:geo:30.7004932,-0.6068785
END:VEVENT
END:VCALENDAR